BEGIN:VCALENDAR
VERSION:2.0
PRODID:-//Stampfer macht Spass - ECPv6.15.13//NONSGML v1.0//EN
CALSCALE:GREGORIAN
METHOD:PUBLISH
X-WR-CALNAME:Stampfer macht Spass
X-ORIGINAL-URL:https://crazy-wave.at
X-WR-CALDESC:Veranstaltungen für Stampfer macht Spass
REFRESH-INTERVAL;VALUE=DURATION:PT1H
X-Robots-Tag:noindex
X-PUBLISHED-TTL:PT1H
BEGIN:VTIMEZONE
TZID:Europe/Berlin
BEGIN:DAYLIGHT
TZOFFSETFROM:+0100
TZOFFSETTO:+0200
TZNAME:CEST
DTSTART:20250330T010000
END:DAYLIGHT
BEGIN:STANDARD
TZOFFSETFROM:+0200
TZOFFSETTO:+0100
TZNAME:CET
DTSTART:20251026T010000
END:STANDARD
BEGIN:DAYLIGHT
TZOFFSETFROM:+0100
TZOFFSETTO:+0200
TZNAME:CEST
DTSTART:20260329T010000
END:DAYLIGHT
BEGIN:STANDARD
TZOFFSETFROM:+0200
TZOFFSETTO:+0100
TZNAME:CET
DTSTART:20261025T010000
END:STANDARD
BEGIN:DAYLIGHT
TZOFFSETFROM:+0100
TZOFFSETTO:+0200
TZNAME:CEST
DTSTART:20270328T010000
END:DAYLIGHT
BEGIN:STANDARD
TZOFFSETFROM:+0200
TZOFFSETTO:+0100
TZNAME:CET
DTSTART:20271031T010000
END:STANDARD
END:VTIMEZONE
BEGIN:VEVENT
DTSTART;TZID=Europe/Berlin:20260430T170000
DTEND;TZID=Europe/Berlin:20260510T220000
DTSTAMP:20260420T040653
CREATED:20251214T140408Z
LAST-MODIFIED:20251214T141037Z
UID:559-1777568400-1778450400@crazy-wave.at
SUMMARY:Fun Park Graz
DESCRIPTION:In Graz gibt es ab 2026 etwas Neues: Den Fun Park! \nAnstelle der Frühjahrsmesse gibt es einen Vergnügungspark mit \nfreiem Eintritt für ganze 11 Tage am Stück! \nWir sind dabei mit unserem Autodrom und Crazy Wave!
URL:https://crazy-wave.at/event/fun-park-graz/
ATTACH;FMTTYPE=image/jpeg:https://crazy-wave.at/wp-content/uploads/2025/12/Fun-Park-26_Banner_600x200px_300dpi.jpg
END:VEVENT
BEGIN:VEVENT
DTSTART;TZID=Europe/Berlin:20260523T080000
DTEND;TZID=Europe/Berlin:20260531T170000
DTSTAMP:20260420T040653
CREATED:20251214T133610Z
LAST-MODIFIED:20251214T133610Z
UID:556-1779523200-1780246800@crazy-wave.at
SUMMARY:Salzburger Dult
DESCRIPTION:Jedes Jahr am Pfingstsamstag startet die Salzburger Dult – das größe Volksfest Westösterreichs! \nDieses Jahr unter neuer Leitung und mit einer veränderten Aufstellung! \nEs werden wieder einzigartige Fahrgeschäfte aus unserem Nachbarland erwartet! \nWir sind dabei mit Move It\, Crazy Wave und Drop Zone! \nAuch der Simulator wird auf seinem neuen Stadtort die Besucher begeistern!
URL:https://crazy-wave.at/event/salzburger-dult/
LOCATION:Salzburger Dult\, Austria
ATTACH;FMTTYPE=image/png:https://crazy-wave.at/wp-content/uploads/2025/12/logo-dult-2026.03b35b5b-scaled.png
END:VEVENT
BEGIN:VEVENT
DTSTART;TZID=Europe/Berlin:20260605T140000
DTEND;TZID=Europe/Berlin:20260607T220000
DTSTAMP:20260420T040653
CREATED:20251214T143506Z
LAST-MODIFIED:20251214T143506Z
UID:571-1780668000-1780869600@crazy-wave.at
SUMMARY:Wolsberg Schönsonntagmarkt
DESCRIPTION:Der Wolfsberger Schönsonntagmarkt findet auch heuer wiede im Stadtzentrum statt. \nGebiessen Sie das Flair von Stadtfest\, Markt und einem großen Vergnügungspark mitten in Wolfsberg!
URL:https://crazy-wave.at/event/wolsberg-schoensonntagmarkt/
ATTACH;FMTTYPE=image/png:https://crazy-wave.at/wp-content/uploads/2025/12/Wolfsberg-Maerkte.png
END:VEVENT
BEGIN:VEVENT
DTSTART;TZID=Europe/Berlin:20260625T180000
DTEND;TZID=Europe/Berlin:20260628T160000
DTSTAMP:20260420T040653
CREATED:20251214T144030Z
LAST-MODIFIED:20251214T144030Z
UID:574-1782410400-1782662400@crazy-wave.at
SUMMARY:Neukirchen am Großvenediger
DESCRIPTION:„The Newchurch Summit“ heißt die Motorradveranstaltung ab 2026 in Neukirchen. \nWir sorgen für Spass auch abseits der Motorräder mit Autodrom\, Move It und Drop Zone! \nKinderkarussell und Süßwaren fehlen natürlich nicht!
URL:https://crazy-wave.at/event/neukirchen-am-grossvenediger/
ATTACH;FMTTYPE=image/png:https://crazy-wave.at/wp-content/uploads/2025/12/logo_newchurch_weiss-1.png
END:VEVENT
BEGIN:VEVENT
DTSTART;VALUE=DATE:20260717
DTEND;VALUE=DATE:20260720
DTSTAMP:20260420T040653
CREATED:20250219T103623Z
LAST-MODIFIED:20251214T141456Z
UID:462-1784246400-1784505599@crazy-wave.at
SUMMARY:Niedernsill Zeltfest
DESCRIPTION:🎡 Niedernsill Zeltfest 2026 – Feiern\, Stimmung & Adrenalin! 🎶 \nVom 17. bis 19. Juli 2026 heißt es in Niedernsill wieder Party pur! Freut euch auf Live-Musik\, beste Unterhaltung und eine unvergessliche Zeltfest-Stimmung. \n🌊🚀 Adrenalinfans aufgepasst! Wir sind mit Crazy Wave  vor Ort – spürt die Welle des Adrenalins und erlebt puren Nervenkitzel! 🎠🔥 \nKommt vorbei und feiert mit uns! 🍻🎡✨
URL:https://crazy-wave.at/event/niedernsill-zeltfest/
ATTACH;FMTTYPE=image/jpeg:https://crazy-wave.at/wp-content/uploads/2025/02/crazy-wave-1.jpg
END:VEVENT
BEGIN:VEVENT
DTSTART;VALUE=DATE:20260724
DTEND;VALUE=DATE:20260727
DTSTAMP:20260420T040653
CREATED:20250219T103828Z
LAST-MODIFIED:20251214T141347Z
UID:464-1784851200-1785110399@crazy-wave.at
SUMMARY:Mittersill Stadtfest
DESCRIPTION:🎡 Mittersill Stadtfest 2026 – Feiern\, Spaß & Action! 🎶 \nVom 24. bis 26. Juli 2026 verwandelt sich Mittersill in eine riesige Festmeile! Euch erwarten Live-Musik\, kulinarische Highlights und ein abwechslungsreiches Unterhaltungsprogramm für die ganze Familie. \n🌊🚀🎶 Adrenalinfans aufgepasst! Wir sind mit Crazy Wave\, Disco Star Autodrom und Simulator vor Ort – Nervenkitzel und Fahrspaß garantiert! 🎠🔥 \nKommt vorbei und erlebt die perfekte Mischung aus Tradition\, Party und Action! 🍻🎡✨
URL:https://crazy-wave.at/event/mittersill-stadtfest/
ATTACH;FMTTYPE=image/jpeg:https://crazy-wave.at/wp-content/uploads/2025/02/20240930_Herbstmesse_highres_CH-401-scaled.jpg
END:VEVENT
BEGIN:VEVENT
DTSTART;TZID=Europe/Berlin:20260807T190000
DTEND;TZID=Europe/Berlin:20260809T220000
DTSTAMP:20260420T040653
CREATED:20250706T203740Z
LAST-MODIFIED:20251214T132246Z
UID:527-1786129200-1786312800@crazy-wave.at
SUMMARY:Radstädter Gardefest
DESCRIPTION:Wir sind wieder dabei beim Radstädter Gardefest mit Crazy Wave und Autodrom! \nFeiert mit mit Top Bands im Bierzelt oder  macht Party im Gardeturm oder Piratenschiff!
URL:https://crazy-wave.at/event/radstaedter-gardefest/
LOCATION:Gardefest Radstadt\, Loretostrasse 8\, Radstadt\, Salzburg\, 5550\, Austria
ATTACH;FMTTYPE=image/jpeg:https://crazy-wave.at/wp-content/uploads/2025/02/Crazy-Wave-Radstadt-2014-1-scaled.jpg
END:VEVENT
BEGIN:VEVENT
DTSTART;TZID=Europe/Berlin:20260812T170000
DTEND;TZID=Europe/Berlin:20260816T200000
DTSTAMP:20260420T040653
CREATED:20250706T210130Z
LAST-MODIFIED:20251214T141157Z
UID:536-1786554000-1786910400@crazy-wave.at
SUMMARY:Freistadt
DESCRIPTION:In Freistadt im Mühlviertel findet die Mühlviertler Wiesn statt\, bei der wir mit Drop Zone und \nSimulator dabei sein werden. \nAuch viele Kollegen werden Ihre Fahrgeschäfte und Buden präsentieren!
URL:https://crazy-wave.at/event/freistadt/
ATTACH;FMTTYPE=image/jpeg:https://crazy-wave.at/wp-content/uploads/2025/02/IMG-20241009-WA0003.jpg
END:VEVENT
BEGIN:VEVENT
DTSTART;TZID=Europe/Berlin:20260829T160000
DTEND;TZID=Europe/Berlin:20260829T160000
DTSTAMP:20260420T040653
CREATED:20250706T204813Z
LAST-MODIFIED:20251214T142554Z
UID:531-1788019200-1788019200@crazy-wave.at
SUMMARY:Marktfest Obertrum
DESCRIPTION:Auf zum Obertrumer Marktfest! Crazy Wave und Drop Zone erwarten euch!
URL:https://crazy-wave.at/event/marktfest-obertrum/
ATTACH;FMTTYPE=image/jpeg:https://crazy-wave.at/wp-content/uploads/2025/02/20240930_Herbstmesse_highres_CH-439-scaled.jpg
END:VEVENT
BEGIN:VEVENT
DTSTART;TZID=Europe/Berlin:20260911T120000
DTEND;TZID=Europe/Berlin:20260920T220000
DTSTAMP:20260420T040653
CREATED:20250706T205158Z
LAST-MODIFIED:20251214T131203Z
UID:533-1789128000-1789941600@crazy-wave.at
SUMMARY:Klagenfurter Gaudepark
DESCRIPTION:Im September verlängern wir den Sommer im südlichsten Bundesland und sind beim \nGaudepark in Klagenfurt dabei! \nAutodrom\, Crazy Wave\, Drop Zone sowie auch der Simulator erwarten euch! \nAuch viele Kollegen werden mit Ihren Fahrgeschäften und Buden dabei sein!
URL:https://crazy-wave.at/event/klagenfurter-gaudepark/
ATTACH;FMTTYPE=image/jpeg:https://crazy-wave.at/wp-content/uploads/2025/07/GAUDEPARK.jpg
END:VEVENT
END:VCALENDAR